BEGIN:VCALENDAR
VERSION:2.0
PRODID:-//Airdrie Abilities Centre - ECPv6.15.20//NONSGML v1.0//EN
CALSCALE:GREGORIAN
METHOD:PUBLISH
X-ORIGINAL-URL:https://airdrieabilities.ca
X-WR-CALDESC:Events for Airdrie Abilities Centre
REFRESH-INTERVAL;VALUE=DURATION:PT1H
X-Robots-Tag:noindex
X-PUBLISHED-TTL:PT1H
BEGIN:VTIMEZONE
TZID:America/Denver
BEGIN:DAYLIGHT
TZOFFSETFROM:-0700
TZOFFSETTO:-0600
TZNAME:MDT
DTSTART:20250309T090000
END:DAYLIGHT
BEGIN:STANDARD
TZOFFSETFROM:-0600
TZOFFSETTO:-0700
TZNAME:MST
DTSTART:20251102T080000
END:STANDARD
BEGIN:DAYLIGHT
TZOFFSETFROM:-0700
TZOFFSETTO:-0600
TZNAME:MDT
DTSTART:20260308T090000
END:DAYLIGHT
BEGIN:STANDARD
TZOFFSETFROM:-0600
TZOFFSETTO:-0700
TZNAME:MST
DTSTART:20261101T080000
END:STANDARD
BEGIN:DAYLIGHT
TZOFFSETFROM:-0700
TZOFFSETTO:-0600
TZNAME:MDT
DTSTART:20270314T090000
END:DAYLIGHT
BEGIN:STANDARD
TZOFFSETFROM:-0600
TZOFFSETTO:-0700
TZNAME:MST
DTSTART:20271107T080000
END:STANDARD
END:VTIMEZONE
BEGIN:VEVENT
DTSTART;TZID=America/Denver:20260626T103000
DTEND;TZID=America/Denver:20260626T140000
DTSTAMP:20260419T120623
CREATED:20260409T010028Z
LAST-MODIFIED:20260409T014439Z
UID:10000841-1782469800-1782482400@airdrieabilities.ca
SUMMARY:🏃‍♂️‍➡️AAC FIT FRIDAY🎳
DESCRIPTION:Join us for a light track workout at Genesis Place from 10:30 AM to 12\, then lunch (pack your own lunch) followed by a few games of bowling at Shamrock Lanes from 1 PM to 2 PM. \n\nPlease note\, this is an event for adults with disabilities with their families and/or caregivers. At Airdrie Abilities Centre\, we ask that every person shows kindness and respect.
URL:https://airdrieabilities.ca/event/%f0%9f%8f%83%e2%99%82%ef%b8%8f%e2%9e%a1%ef%b8%8faac-fit-friday%f0%9f%8e%b3-6/2026-06-26/
LOCATION:Genesis Place\, 800 East Lake Boulevard NE\, Airdrie\, Alberta\, T4A 2K9\, Canada
END:VEVENT
END:VCALENDAR