BEGIN:VCALENDAR
VERSION:2.0
PRODID:-//Airdrie Abilities Centre - ECPv6.15.20//NONSGML v1.0//EN
CALSCALE:GREGORIAN
METHOD:PUBLISH
X-WR-CALNAME:Airdrie Abilities Centre
X-ORIGINAL-URL:https://airdrieabilities.ca
X-WR-CALDESC:Events for Airdrie Abilities Centre
REFRESH-INTERVAL;VALUE=DURATION:PT1H
X-Robots-Tag:noindex
X-PUBLISHED-TTL:PT1H
BEGIN:VTIMEZONE
TZID:America/Denver
BEGIN:DAYLIGHT
TZOFFSETFROM:-0700
TZOFFSETTO:-0600
TZNAME:MDT
DTSTART:20240310T090000
END:DAYLIGHT
BEGIN:STANDARD
TZOFFSETFROM:-0600
TZOFFSETTO:-0700
TZNAME:MST
DTSTART:20241103T080000
END:STANDARD
BEGIN:DAYLIGHT
TZOFFSETFROM:-0700
TZOFFSETTO:-0600
TZNAME:MDT
DTSTART:20250309T090000
END:DAYLIGHT
BEGIN:STANDARD
TZOFFSETFROM:-0600
TZOFFSETTO:-0700
TZNAME:MST
DTSTART:20251102T080000
END:STANDARD
BEGIN:DAYLIGHT
TZOFFSETFROM:-0700
TZOFFSETTO:-0600
TZNAME:MDT
DTSTART:20260308T090000
END:DAYLIGHT
BEGIN:STANDARD
TZOFFSETFROM:-0600
TZOFFSETTO:-0700
TZNAME:MST
DTSTART:20261101T080000
END:STANDARD
END:VTIMEZONE
BEGIN:VTIMEZONE
TZID:America/Chicago
BEGIN:DAYLIGHT
TZOFFSETFROM:-0600
TZOFFSETTO:-0500
TZNAME:CDT
DTSTART:20240310T080000
END:DAYLIGHT
BEGIN:STANDARD
TZOFFSETFROM:-0500
TZOFFSETTO:-0600
TZNAME:CST
DTSTART:20241103T070000
END:STANDARD
BEGIN:DAYLIGHT
TZOFFSETFROM:-0600
TZOFFSETTO:-0500
TZNAME:CDT
DTSTART:20250309T080000
END:DAYLIGHT
BEGIN:STANDARD
TZOFFSETFROM:-0500
TZOFFSETTO:-0600
TZNAME:CST
DTSTART:20251102T070000
END:STANDARD
BEGIN:DAYLIGHT
TZOFFSETFROM:-0600
TZOFFSETTO:-0500
TZNAME:CDT
DTSTART:20260308T080000
END:DAYLIGHT
BEGIN:STANDARD
TZOFFSETFROM:-0500
TZOFFSETTO:-0600
TZNAME:CST
DTSTART:20261101T070000
END:STANDARD
END:VTIMEZONE
BEGIN:VEVENT
DTSTART;TZID=America/Denver:20250602T100000
DTEND;TZID=America/Denver:20250602T143000
DTSTAMP:20260420T012643
CREATED:20250610T045122Z
LAST-MODIFIED:20251027T035148Z
UID:10000002-1748858400-1748874600@airdrieabilities.ca
SUMMARY:AAC Get Together & Karaoke
DESCRIPTION:🎤Come Join the Fun! 🎶 \nEnjoy karaoke with Kiss Productions\, sing-alongs with Steve from the RCMP Special Detachment\, and fun table games. \nBring your own lunch and drink. \nA $10 admission fee for this event helps sustain our AAC programming. \n \nPlease note\, this is an event for adults with disabilities with their families and/or caregivers. At Airdrie Abilities Centre\, we ask that every person shows kindness and respect. Abusive behavior will result in removal from premises. \n 
URL:https://airdrieabilities.ca/event/aac-get-together-karaoke/2025-06-02/
LOCATION:Living Springs Church\, 2304 Yankee Valley Boulevard Southwest\, Airdrie\, AB T4B 5J1\, Airdrie\, Alberta\, T4B 5J1\, Canada
END:VEVENT
BEGIN:VEVENT
DTSTART;TZID=America/Chicago:20250314T080000
DTEND;TZID=America/Chicago:20250314T170000
DTSTAMP:20260420T012643
CREATED:20250312T055330Z
LAST-MODIFIED:20250312T091905Z
UID:10000001-1741939200-1741971600@airdrieabilities.ca
SUMMARY:Aliquam Lacinia
DESCRIPTION:Pellentesque id sagittis est. Morbi hendrerit placerat tristique. Pellentesque at dolor nibh. Nullam non neque at purus finibus aliquet. Praesent eget neque vitae sem aliquet vestibulum ut vitae diam.
URL:https://airdrieabilities.ca/event/aliquam-lacinia/
LOCATION:Alberta
ATTACH;FMTTYPE=image/webp:https://airdrieabilities.ca/wp-content/uploads/2025/03/GettyImages-2148428468.webp
END:VEVENT
END:VCALENDAR