BEGIN:VCALENDAR
VERSION:2.0
PRODID:-//Airdrie Abilities Centre - ECPv6.15.20//NONSGML v1.0//EN
CALSCALE:GREGORIAN
METHOD:PUBLISH
X-WR-CALNAME:Airdrie Abilities Centre
X-ORIGINAL-URL:https://airdrieabilities.ca
X-WR-CALDESC:Events for Airdrie Abilities Centre
REFRESH-INTERVAL;VALUE=DURATION:PT1H
X-Robots-Tag:noindex
X-PUBLISHED-TTL:PT1H
BEGIN:VTIMEZONE
TZID:America/Chicago
BEGIN:DAYLIGHT
TZOFFSETFROM:-0600
TZOFFSETTO:-0500
TZNAME:CDT
DTSTART:20250309T080000
END:DAYLIGHT
BEGIN:STANDARD
TZOFFSETFROM:-0500
TZOFFSETTO:-0600
TZNAME:CST
DTSTART:20251102T070000
END:STANDARD
BEGIN:DAYLIGHT
TZOFFSETFROM:-0600
TZOFFSETTO:-0500
TZNAME:CDT
DTSTART:20260308T080000
END:DAYLIGHT
BEGIN:STANDARD
TZOFFSETFROM:-0500
TZOFFSETTO:-0600
TZNAME:CST
DTSTART:20261101T070000
END:STANDARD
BEGIN:DAYLIGHT
TZOFFSETFROM:-0600
TZOFFSETTO:-0500
TZNAME:CDT
DTSTART:20270314T080000
END:DAYLIGHT
BEGIN:STANDARD
TZOFFSETFROM:-0500
TZOFFSETTO:-0600
TZNAME:CST
DTSTART:20271107T070000
END:STANDARD
END:VTIMEZONE
BEGIN:VEVENT
DTSTART;TZID=America/Chicago:20260430T100000
DTEND;TZID=America/Chicago:20260430T150000
DTSTAMP:20260419T061857
CREATED:20260320T190157Z
LAST-MODIFIED:20260409T015227Z
UID:10000606-1777543200-1777561200@airdrieabilities.ca
SUMMARY:🎨Creative Fun & 🎉Social Time at Cam Clark Ford
DESCRIPTION:Come join us for a fun day of crafting and dancing! Whether you love making crafts or moving to music\, this event has something for everyone. It’s a chance to be creative\, relax\, and spend time with friends. \nWe’ll be meeting in the upstairs room at Cam Clark Ford. There’s an elevator available if needed. Please remember to be respectful of the space\, as it’s a place of business. \nLunch will be provided. \nA $10 admission fee for this event helps sustain our AAC programming. \nPlease park on the street\, to ensure parking spaces are available for Cam Clark staff and service users. Accessible parking is available for those with mobility needs. Thank you! \n   Please note\, this is an event for adults with disabilities with their families and/or caregivers. At Airdrie Abilities Centre\, we ask that every person shows kindness and respect.
URL:https://airdrieabilities.ca/event/%f0%9f%8e%a8creative-fun-%f0%9f%8e%89social-time-at-cam-clark-ford-4-2/2026-04-30/
LOCATION:Cam Clark Ford\, 1001 Highland Park Blvd NE\, Airdrie\, AB\, T4A 0R2\, Canada
END:VEVENT
END:VCALENDAR