BEGIN:VCALENDAR
VERSION:2.0
PRODID:-//Airdrie Abilities Centre - ECPv6.15.20//NONSGML v1.0//EN
CALSCALE:GREGORIAN
METHOD:PUBLISH
X-WR-CALNAME:Airdrie Abilities Centre
X-ORIGINAL-URL:https://airdrieabilities.ca
X-WR-CALDESC:Events for Airdrie Abilities Centre
REFRESH-INTERVAL;VALUE=DURATION:PT1H
X-Robots-Tag:noindex
X-PUBLISHED-TTL:PT1H
BEGIN:VTIMEZONE
TZID:America/Denver
BEGIN:DAYLIGHT
TZOFFSETFROM:-0700
TZOFFSETTO:-0600
TZNAME:MDT
DTSTART:20250309T090000
END:DAYLIGHT
BEGIN:STANDARD
TZOFFSETFROM:-0600
TZOFFSETTO:-0700
TZNAME:MST
DTSTART:20251102T080000
END:STANDARD
BEGIN:DAYLIGHT
TZOFFSETFROM:-0700
TZOFFSETTO:-0600
TZNAME:MDT
DTSTART:20260308T090000
END:DAYLIGHT
BEGIN:STANDARD
TZOFFSETFROM:-0600
TZOFFSETTO:-0700
TZNAME:MST
DTSTART:20261101T080000
END:STANDARD
BEGIN:DAYLIGHT
TZOFFSETFROM:-0700
TZOFFSETTO:-0600
TZNAME:MDT
DTSTART:20270314T090000
END:DAYLIGHT
BEGIN:STANDARD
TZOFFSETFROM:-0600
TZOFFSETTO:-0700
TZNAME:MST
DTSTART:20271107T080000
END:STANDARD
END:VTIMEZONE
BEGIN:VEVENT
DTSTART;TZID=America/Denver:20260402T100000
DTEND;TZID=America/Denver:20260402T140000
DTSTAMP:20260419T061954
CREATED:20260227T225740Z
LAST-MODIFIED:20260227T233347Z
UID:10000637-1775124000-1775138400@airdrieabilities.ca
SUMMARY:🐰Easter Party🐣
DESCRIPTION:Come join us for a fun Easter Celebration Party! Enjoy a delicious meal followed by fun\, lively activities including dancing and karaoke\, a perfect way to socialize together. \nPlease also bring an Easter Candy to share with others who attend! \nA $10 admission fee for this event helps sustain our AAC programming. \nPLEASE PRE-REGISTER WITH EVENTBRITE (REGISTER HERE). \n Please note\, this is an event for adults with disabilities with their families and/or caregivers. At Airdrie Abilities Centre\, we ask that every person shows kindness and respect.
URL:https://airdrieabilities.ca/event/%f0%9f%90%b0easter-party%f0%9f%90%a3/
LOCATION:Crossfield Baptist Church\, 285176 AB-2\, Crossfield\, AB T0M 0C1\, Crossfield\, Alberta\, T0M0C1\, Canada
END:VEVENT
END:VCALENDAR