BEGIN:VCALENDAR
VERSION:2.0
PRODID:-//Airdrie Abilities Centre - ECPv6.15.20//NONSGML v1.0//EN
CALSCALE:GREGORIAN
METHOD:PUBLISH
X-ORIGINAL-URL:https://airdrieabilities.ca
X-WR-CALDESC:Events for Airdrie Abilities Centre
REFRESH-INTERVAL;VALUE=DURATION:PT1H
X-Robots-Tag:noindex
X-PUBLISHED-TTL:PT1H
BEGIN:VTIMEZONE
TZID:America/Chicago
BEGIN:DAYLIGHT
TZOFFSETFROM:-0600
TZOFFSETTO:-0500
TZNAME:CDT
DTSTART:20250309T080000
END:DAYLIGHT
BEGIN:STANDARD
TZOFFSETFROM:-0500
TZOFFSETTO:-0600
TZNAME:CST
DTSTART:20251102T070000
END:STANDARD
BEGIN:DAYLIGHT
TZOFFSETFROM:-0600
TZOFFSETTO:-0500
TZNAME:CDT
DTSTART:20260308T080000
END:DAYLIGHT
BEGIN:STANDARD
TZOFFSETFROM:-0500
TZOFFSETTO:-0600
TZNAME:CST
DTSTART:20261101T070000
END:STANDARD
BEGIN:DAYLIGHT
TZOFFSETFROM:-0600
TZOFFSETTO:-0500
TZNAME:CDT
DTSTART:20270314T080000
END:DAYLIGHT
BEGIN:STANDARD
TZOFFSETFROM:-0500
TZOFFSETTO:-0600
TZNAME:CST
DTSTART:20271107T070000
END:STANDARD
END:VTIMEZONE
BEGIN:VEVENT
DTSTART;TZID=America/Chicago:20260225T100000
DTEND;TZID=America/Chicago:20260304T150000
DTSTAMP:20260419T074205
CREATED:20260301T030719Z
LAST-MODIFIED:20260301T030720Z
UID:10000508-1772013600-1772636400@airdrieabilities.ca
SUMMARY:🎨Creative Fun & 🎉Social Time at Cam Clark Ford
DESCRIPTION:Come join us for a fun day of crafting and dancing! Whether you love making crafts or moving to music\, this event has something for everyone. It’s a chance to be creative\, relax\, and spend time with friends. \nWe’ll be meeting in the upstairs boardroom at Cam Clark Ford. There’s an elevator available if needed. Please remember to be respectful of the space\, as it’s a place of business. \nLunch will be provided. \nA $10 admission fee for this event helps sustain our AAC programming. \nPlease park on the street\, to ensure parking spaces are available for Cam Clark staff and service users. Accessible parking is available for those with mobility needs. Thank you! \n   Please note\, this is an event for adults with disabilities with their families and/or caregivers. At Airdrie Abilities Centre\, we ask that every person shows kindness and respect.
URL:https://airdrieabilities.ca/event/%f0%9f%8e%a8creative-fun-%f0%9f%8e%89social-time-at-cam-clark-ford-3-3/
LOCATION:Cam Clark Ford\, 1001 Highland Park Blvd NE\, Airdrie\, AB\, T4A 0R2\, Canada
END:VEVENT
BEGIN:VEVENT
DTSTART;TZID=America/Chicago:20260303T100000
DTEND;TZID=America/Chicago:20260303T143000
DTSTAMP:20260419T074205
CREATED:20251218T054336Z
LAST-MODIFIED:20260409T013838Z
UID:10000617-1772532000-1772548200@airdrieabilities.ca
SUMMARY:🎲 Fun Bingo – Everyone Wins! 😊
DESCRIPTION:Come join us for a fun and friendly day of bingo and indoor table games. It’s a great chance to spend time with friends and make new ones in a welcoming and inclusive space. \nBring your own lunch and drink. \nA $10 admission fee for this event helps sustain our AAC programming. \n \nPlease note\, this is an event for adults with disabilities with their families and/or caregivers. At Airdrie Abilities Centre\, we ask that every person shows kindness and respect.
URL:https://airdrieabilities.ca/event/%f0%9f%8e%b2-fun-bingo-everyone-wins-%f0%9f%98%8a/2026-03-03/
LOCATION:Living Springs Church\, 2304 Yankee Valley Boulevard Southwest\, Airdrie\, AB T4B 5J1\, Airdrie\, Alberta\, T4B 5J1\, Canada
END:VEVENT
END:VCALENDAR