BEGIN:VCALENDAR
VERSION:2.0
PRODID:-//Airdrie Abilities Centre - ECPv6.15.20//NONSGML v1.0//EN
CALSCALE:GREGORIAN
METHOD:PUBLISH
X-ORIGINAL-URL:https://airdrieabilities.ca
X-WR-CALDESC:Events for Airdrie Abilities Centre
REFRESH-INTERVAL;VALUE=DURATION:PT1H
X-Robots-Tag:noindex
X-PUBLISHED-TTL:PT1H
BEGIN:VTIMEZONE
TZID:America/Denver
BEGIN:DAYLIGHT
TZOFFSETFROM:-0700
TZOFFSETTO:-0600
TZNAME:MDT
DTSTART:20250309T090000
END:DAYLIGHT
BEGIN:STANDARD
TZOFFSETFROM:-0600
TZOFFSETTO:-0700
TZNAME:MST
DTSTART:20251102T080000
END:STANDARD
BEGIN:DAYLIGHT
TZOFFSETFROM:-0700
TZOFFSETTO:-0600
TZNAME:MDT
DTSTART:20260308T090000
END:DAYLIGHT
BEGIN:STANDARD
TZOFFSETFROM:-0600
TZOFFSETTO:-0700
TZNAME:MST
DTSTART:20261101T080000
END:STANDARD
BEGIN:DAYLIGHT
TZOFFSETFROM:-0700
TZOFFSETTO:-0600
TZNAME:MDT
DTSTART:20270314T090000
END:DAYLIGHT
BEGIN:STANDARD
TZOFFSETFROM:-0600
TZOFFSETTO:-0700
TZNAME:MST
DTSTART:20271107T080000
END:STANDARD
END:VTIMEZONE
BEGIN:VEVENT
DTSTART;TZID=America/Denver:20260224T100000
DTEND;TZID=America/Denver:20260224T143000
DTSTAMP:20260419T074338
CREATED:20260211T033338Z
LAST-MODIFIED:20260211T041659Z
UID:10000636-1771927200-1771943400@airdrieabilities.ca
SUMMARY:🎲 Fun Bingo – Everyone Wins! 😊 w/ Special Guest Mike Underwood and 🐕‍🦺Whiskey🦮
DESCRIPTION:Special guest Mike Underwood and his certified service dog\, Whiskey\, who is a highly trained PTSD and seizure detection service dog\, providing critical support that helps Mike navigate daily life with greater safety\, independence\, and confidence. \nIn this presentation\, Mike and Whiskey will share their journey\, offer insight into living with invisible disabilities\, and educate audiences on the important role service dogs play in accessibility\, awareness\, and inclusion.\nFollowing this we will resume our day of bingo and indoor table games. It’s a great chance to spend time with friends and make new ones in a welcoming and inclusive space. \nBring your own lunch and drink. \nA $10 admission fee for this event helps sustain our AAC programming. \n \nPlease note\, this is an event for adults with disabilities with their families and/or caregivers. At Airdrie Abilities Centre\, we ask that every person shows kindness and respect. \n  \n  \n 
URL:https://airdrieabilities.ca/event/%f0%9f%90%b6mike-underwood-and-whiskey%f0%9f%a6%ae/
LOCATION:Living Springs Church\, 2304 Yankee Valley Boulevard Southwest\, Airdrie\, AB T4B 5J1\, Airdrie\, Alberta\, T4B 5J1\, Canada
END:VEVENT
END:VCALENDAR