BEGIN:VCALENDAR
VERSION:2.0
PRODID:-//Airdrie Abilities Centre - ECPv6.15.20//NONSGML v1.0//EN
CALSCALE:GREGORIAN
METHOD:PUBLISH
X-ORIGINAL-URL:https://airdrieabilities.ca
X-WR-CALDESC:Events for Airdrie Abilities Centre
REFRESH-INTERVAL;VALUE=DURATION:PT1H
X-Robots-Tag:noindex
X-PUBLISHED-TTL:PT1H
BEGIN:VTIMEZONE
TZID:America/Chicago
BEGIN:DAYLIGHT
TZOFFSETFROM:-0600
TZOFFSETTO:-0500
TZNAME:CDT
DTSTART:20250309T080000
END:DAYLIGHT
BEGIN:STANDARD
TZOFFSETFROM:-0500
TZOFFSETTO:-0600
TZNAME:CST
DTSTART:20251102T070000
END:STANDARD
BEGIN:DAYLIGHT
TZOFFSETFROM:-0600
TZOFFSETTO:-0500
TZNAME:CDT
DTSTART:20260308T080000
END:DAYLIGHT
BEGIN:STANDARD
TZOFFSETFROM:-0500
TZOFFSETTO:-0600
TZNAME:CST
DTSTART:20261101T070000
END:STANDARD
BEGIN:DAYLIGHT
TZOFFSETFROM:-0600
TZOFFSETTO:-0500
TZNAME:CDT
DTSTART:20270314T080000
END:DAYLIGHT
BEGIN:STANDARD
TZOFFSETFROM:-0500
TZOFFSETTO:-0600
TZNAME:CST
DTSTART:20271107T070000
END:STANDARD
END:VTIMEZONE
BEGIN:VEVENT
DTSTART;TZID=America/Chicago:20260211T100000
DTEND;TZID=America/Chicago:20260211T140000
DTSTAMP:20260420T000617
CREATED:20251218T062525Z
LAST-MODIFIED:20260119T193359Z
UID:10000525-1770804000-1770818400@airdrieabilities.ca
SUMMARY:😍AAC Valentine's Party🥰
DESCRIPTION:Come join us for a fun Valentine’s Day Party! Enjoy a delicious meal followed by fun\, lively activities including dancing and karaoke\, a perfect way to socialize together. \nPlease also bring a few cards to share with others who attend! \nA $10 admission fee for this event helps sustain our AAC programming. \nPLEASE PRE-REGISTER WITH EVENTBRITE (REGISTER HERE). \n   Please note\, this is an event for adults with disabilities with their families and/or caregivers. At Airdrie Abilities Centre\, we ask that every person shows kindness and respect.
URL:https://airdrieabilities.ca/event/%f0%9f%98%8daac-valentines-party%f0%9f%a5%b0/
LOCATION:Crossfield Baptist Church\, 285176 AB-2\, Crossfield\, AB T0M 0C1\, Crossfield\, Alberta\, T0M0C1\, Canada
END:VEVENT
END:VCALENDAR